BEGIN:VCALENDAR
VERSION:2.0
PRODID:-//Gminne Centrum Kultury w Grębowie - ECPv5.9.1//NONSGML v1.0//EN
CALSCALE:GREGORIAN
METHOD:PUBLISH
X-WR-CALNAME:Gminne Centrum Kultury w Grębowie
X-ORIGINAL-URL:https://gckgrebow.pl
X-WR-CALDESC:Wydarzenia na Gminne Centrum Kultury w Grębowie
BEGIN:VTIMEZONE
TZID:Europe/Warsaw
BEGIN:DAYLIGHT
TZOFFSETFROM:+0100
TZOFFSETTO:+0200
TZNAME:CEST
DTSTART:20250330T010000
END:DAYLIGHT
BEGIN:STANDARD
TZOFFSETFROM:+0200
TZOFFSETTO:+0100
TZNAME:CET
DTSTART:20251026T010000
END:STANDARD
END:VTIMEZONE
BEGIN:VEVENT
DTSTART;VALUE=DATE:20251212
DTEND;VALUE=DATE:20251213
DTSTAMP:20260421T231238
CREATED:20251124T075503Z
LAST-MODIFIED:20251124T075503Z
UID:139815-1765497600-1765583999@gckgrebow.pl
SUMMARY:Coraz bliżej święta - warsztaty bożonarodzeniowe Stale-Siedlisko
DESCRIPTION:
URL:https://gckgrebow.pl/wydarzenie/coraz-blizej-swieta-warsztaty-bozonarodzeniowe-stale-siedlisko/
END:VEVENT
END:VCALENDAR