BEGIN:VCALENDAR
VERSION:2.0
PRODID:-//Gminne Centrum Kultury w Grębowie - ECPv5.9.1//NONSGML v1.0//EN
CALSCALE:GREGORIAN
METHOD:PUBLISH
X-WR-CALNAME:Gminne Centrum Kultury w Grębowie
X-ORIGINAL-URL:https://gckgrebow.pl
X-WR-CALDESC:Wydarzenia na Gminne Centrum Kultury w Grębowie
BEGIN:VTIMEZONE
TZID:Europe/Warsaw
BEGIN:DAYLIGHT
TZOFFSETFROM:+0100
TZOFFSETTO:+0200
TZNAME:CEST
DTSTART:20250330T010000
END:DAYLIGHT
BEGIN:STANDARD
TZOFFSETFROM:+0200
TZOFFSETTO:+0100
TZNAME:CET
DTSTART:20251026T010000
END:STANDARD
END:VTIMEZONE
BEGIN:VEVENT
DTSTART;VALUE=DATE:20251211
DTEND;VALUE=DATE:20251212
DTSTAMP:20260422T024832
CREATED:20251124T075424Z
LAST-MODIFIED:20251124T075424Z
UID:139813-1765411200-1765497599@gckgrebow.pl
SUMMARY:Coraz bliżej święta - warsztaty bożonarodzeniowe Żupawa
DESCRIPTION:
URL:https://gckgrebow.pl/wydarzenie/coraz-blizej-swieta-warsztaty-bozonarodzeniowe-zupawa/
END:VEVENT
END:VCALENDAR