BEGIN:VCALENDAR
VERSION:2.0
PRODID:-//Gminne Centrum Kultury w Grębowie - ECPv5.9.1//NONSGML v1.0//EN
CALSCALE:GREGORIAN
METHOD:PUBLISH
X-WR-CALNAME:Gminne Centrum Kultury w Grębowie
X-ORIGINAL-URL:https://gckgrebow.pl
X-WR-CALDESC:Wydarzenia na Gminne Centrum Kultury w Grębowie
BEGIN:VTIMEZONE
TZID:UTC
BEGIN:STANDARD
TZOFFSETFROM:+0000
TZOFFSETTO:+0000
TZNAME:UTC
DTSTART:20200101T000000
END:STANDARD
END:VTIMEZONE
BEGIN:VEVENT
DTSTART;VALUE=DATE:20200106
DTEND;VALUE=DATE:20200107
DTSTAMP:20260423T095420
CREATED:20191106T100144Z
LAST-MODIFIED:20191106T100144Z
UID:118889-1578268800-1578355199@gckgrebow.pl
SUMMARY:Jasełka w Grębowie w wykonaniu Koralików
DESCRIPTION:
URL:https://gckgrebow.pl/wydarzenie/jaselka-w-grebowie-w-wykonaniu-koralikow/
END:VEVENT
END:VCALENDAR