BEGIN:VCALENDAR
VERSION:2.0
PRODID:-//Gminne Centrum Kultury w Grębowie - ECPv5.9.1//NONSGML v1.0//EN
CALSCALE:GREGORIAN
METHOD:PUBLISH
X-WR-CALNAME:Gminne Centrum Kultury w Grębowie
X-ORIGINAL-URL:https://gckgrebow.pl
X-WR-CALDESC:Wydarzenia na Gminne Centrum Kultury w Grębowie
BEGIN:VTIMEZONE
TZID:UTC
BEGIN:STANDARD
TZOFFSETFROM:+0000
TZOFFSETTO:+0000
TZNAME:UTC
DTSTART:20190101T000000
END:STANDARD
END:VTIMEZONE
BEGIN:VEVENT
DTSTART;VALUE=DATE:20191224
DTEND;VALUE=DATE:20191225
DTSTAMP:20260423T125209
CREATED:20190917T043318Z
LAST-MODIFIED:20190917T043318Z
UID:118704-1577145600-1577231999@gckgrebow.pl
SUMMARY:Koncert Kolęd
DESCRIPTION:
URL:https://gckgrebow.pl/wydarzenie/koncert-koled-2/
END:VEVENT
END:VCALENDAR