BEGIN:VCALENDAR
VERSION:2.0
PRODID:-//Gminne Centrum Kultury w Grębowie - ECPv5.9.1//NONSGML v1.0//EN
CALSCALE:GREGORIAN
METHOD:PUBLISH
X-WR-CALNAME:Gminne Centrum Kultury w Grębowie
X-ORIGINAL-URL:https://gckgrebow.pl
X-WR-CALDESC:Wydarzenia na Gminne Centrum Kultury w Grębowie
BEGIN:VTIMEZONE
TZID:Europe/Warsaw
BEGIN:DAYLIGHT
TZOFFSETFROM:+0100
TZOFFSETTO:+0200
TZNAME:CEST
DTSTART:20250330T010000
END:DAYLIGHT
BEGIN:STANDARD
TZOFFSETFROM:+0200
TZOFFSETTO:+0100
TZNAME:CET
DTSTART:20251026T010000
END:STANDARD
END:VTIMEZONE
BEGIN:VEVENT
DTSTART;VALUE=DATE:20251211
DTEND;VALUE=DATE:20251212
DTSTAMP:20260422T010144
CREATED:20251204T103306Z
LAST-MODIFIED:20251204T103306Z
UID:140098-1765411200-1765497599@gckgrebow.pl
SUMMARY:Udział Zespołu \,\,Wydrzowianie" w Przeglądzie Kultury Lasowiackiej w widłach Wisły i Sanu" w Radomyślu nad Sanem
DESCRIPTION:
URL:https://gckgrebow.pl/wydarzenie/udzial-zespolu-wydrzowianie-w-przegladzie-kultury-lasowiackiej-w-widlach-wisly-i-sanu-w-radomyslu-nad-sanem/
END:VEVENT
END:VCALENDAR